BEGIN:VCALENDAR
VERSION:2.0
PRODID:-//ICC House of Prayer - ECPv6.15.13.1//NONSGML v1.0//EN
CALSCALE:GREGORIAN
METHOD:PUBLISH
X-ORIGINAL-URL:https://harlow.icchouseofprayer.org
X-WR-CALDESC:Events for ICC House of Prayer
REFRESH-INTERVAL;VALUE=DURATION:PT1H
X-Robots-Tag:noindex
X-PUBLISHED-TTL:PT1H
BEGIN:VTIMEZONE
TZID:Europe/London
BEGIN:DAYLIGHT
TZOFFSETFROM:+0000
TZOFFSETTO:+0100
TZNAME:BST
DTSTART:20240331T010000
END:DAYLIGHT
BEGIN:STANDARD
TZOFFSETFROM:+0100
TZOFFSETTO:+0000
TZNAME:GMT
DTSTART:20241027T010000
END:STANDARD
BEGIN:DAYLIGHT
TZOFFSETFROM:+0000
TZOFFSETTO:+0100
TZNAME:BST
DTSTART:20250330T010000
END:DAYLIGHT
BEGIN:STANDARD
TZOFFSETFROM:+0100
TZOFFSETTO:+0000
TZNAME:GMT
DTSTART:20251026T010000
END:STANDARD
BEGIN:DAYLIGHT
TZOFFSETFROM:+0000
TZOFFSETTO:+0100
TZNAME:BST
DTSTART:20260329T010000
END:DAYLIGHT
BEGIN:STANDARD
TZOFFSETFROM:+0100
TZOFFSETTO:+0000
TZNAME:GMT
DTSTART:20261025T010000
END:STANDARD
END:VTIMEZONE
BEGIN:VEVENT
DTSTART;TZID=Europe/London:20250912T193000
DTEND;TZID=Europe/London:20250912T213000
DTSTAMP:20260422T031656
CREATED:20250906T001635Z
LAST-MODIFIED:20250906T155533Z
UID:46543-1757705400-1757712600@harlow.icchouseofprayer.org
SUMMARY:🔥 Friday Prayer & Revival Service
DESCRIPTION:Step into the fire of God’s presence every Friday night. Our Prayer & Revival Service is a time of spiritual warfare\, breakthrough prayer\, prophetic release\, and refreshing in the Holy Spirit. \nWe don’t gather for routine — we gather for revival. \n🕢 Time: 7:30 PM – 9:30 PM (UK)📍 Location: ICC House of Prayer HQ📺 Watch Live: \n\n\nYouTube: youtube.com/@icchouseofprayerhq/streams \n\n\nFacebook: facebook.com/profile.php?id=100064527982792&sk=live_videos \n\n\nCome ready to pray\, worship\, and see the hand of God move mightily.All are welcome!
URL:https://harlow.icchouseofprayer.org/event/%f0%9f%94%a5-friday-prayer-revival-service/
LOCATION:ICC House of Prayer – London\, 171 Hertford Road\, Edmonton\, London\, N9 7EL\, United Kingdom
CATEGORIES:Prayer Service
ATTACH;FMTTYPE=image/jpeg:https://harlow.icchouseofprayer.org/wp-content/uploads/2025/09/Friday-Prayer-Meeting.jpg
END:VEVENT
END:VCALENDAR